BEGIN:VCALENDAR
VERSION:2.0
CALSCALE:GREGORIAN
BEGIN:VEVENT
DTSTART:20260705T173000Z
SUMMARY:LUZERN Kirche Maihof
END:VEVENT
BEGIN:VEVENT
DTSTART:20251123T183000Z
SUMMARY:LUZERN Kirche Maihof
END:VEVENT
BEGIN:VEVENT
DTSTART:20260215T183000Z
SUMMARY:LUZERN Kirche Maihof
END:VEVENT
BEGIN:VEVENT
DTSTART:20251221T183000Z
SUMMARY:LUZERN Kirche Maihof
END:VEVENT
BEGIN:VEVENT
DTSTART:20251214T183000Z
SUMMARY:LUZERN Kirche Maihof
END:VEVENT
BEGIN:VEVENT
DTSTART:20260524T173000Z
SUMMARY:LUZERN Kirche Maihof
END:VEVENT
BEGIN:VEVENT
DTSTART:20260621T173000Z
SUMMARY:LUZERN Kirche Maihof
END:VEVENT
BEGIN:VEVENT
DTSTART:20260208T183000Z
SUMMARY:LUZERN Kirche Maihof
END:VEVENT
BEGIN:VEVENT
DTSTART:20260419T173000Z
SUMMARY:LUZERN Kirche Maihof
END:VEVENT
BEGIN:VEVENT
DTSTART:20260412T173000Z
SUMMARY:LUZERN Kirche Maihof
END:VEVENT
BEGIN:VEVENT
DTSTART:20251129T183000Z
SUMMARY:LUZERN Kirche Maihof
END:VEVENT
BEGIN:VEVENT
DTSTART:20260301T183000Z
SUMMARY:LUZERN Kirche Maihof
END:VEVENT
BEGIN:VEVENT
DTSTART:20260321T183000Z
SUMMARY:LUZERN Kirche Maihof
END:VEVENT
BEGIN:VEVENT
DTSTART:20260201T183000Z
SUMMARY:LUZERN Kirche Maihof
END:VEVENT
BEGIN:VEVENT
DTSTART:20260111T183000Z
SUMMARY:LUZERN Kirche Maihof
END:VEVENT
BEGIN:VEVENT
DTSTART:20251231T210000Z
SUMMARY:LUZERN Kirche Maihof
END:VEVENT
BEGIN:VEVENT
DTSTART:20260606T173000Z
SUMMARY:LUZERN Kirche Maihof
END:VEVENT
BEGIN:VEVENT
DTSTART;TZID=Europe/Zurich:20260823T193000
SUMMARY:LUZERN Kirche Maihof
END:VEVENT
BEGIN:VEVENT
DTSTART;TZID=Europe/Zurich:20260906T193000
SUMMARY:LUZERN Kirche Maihof
END:VEVENT
BEGIN:VEVENT
DTSTART;TZID=Europe/Zurich:20260913T193000
SUMMARY:LUZERN Kirche Maihof
END:VEVENT
BEGIN:VEVENT
DTSTART;TZID=Europe/Zurich:20261011T193000
SUMMARY:LUZERN Kirche Maihof
END:VEVENT
BEGIN:VEVENT
DTSTART;TZID=Europe/Zurich:20261018T193000
SUMMARY:LUZERN Kirche Maihof
END:VEVENT
BEGIN:VEVENT
DTSTART;TZID=Europe/Zurich:20261101T193000
SUMMARY:LUZERN Kirche Maihof
END:VEVENT
BEGIN:VEVENT
DTSTART;TZID=Europe/Zurich:20261108T193000
SUMMARY:LUZERN Kirche Maihof
END:VEVENT
BEGIN:VEVENT
DTSTART;TZID=Europe/Zurich:20261115T193000
SUMMARY:LUZERN Kirche Maihof
END:VEVENT
BEGIN:VEVENT
DTSTART;TZID=Europe/Zurich:20261129T193000
SUMMARY:LUZERN Kirche Maihof
END:VEVENT
BEGIN:VEVENT
DTSTART;TZID=Europe/Zurich:20261213T193000
SUMMARY:LUZERN Kirche Maihof
END:VEVENT
BEGIN:VEVENT
DTSTART;TZID=Europe/Zurich:20261220T193000
SUMMARY:LUZERN Kirche Maihof
END:VEVENT
BEGIN:VEVENT
DTSTART;TZID=Europe/Zurich:20261231T193000
SUMMARY:LUZERN Kirche Maihof
END:VEVENT
END:VCALENDAR