BEGIN:VCALENDAR
VERSION:2.0
CALSCALE:GREGORIAN

BEGIN:VEVENT
DTSTART:20260524T173000Z
DTEND:20260524T193000Z
SUMMARY:LUZERN Kirche Maihof
END:VEVENT

BEGIN:VEVENT
DTSTART:20260606T173000Z
DTEND:20260606T193000Z
SUMMARY:LUZERN Kirche Maihof
END:VEVENT

BEGIN:VEVENT
DTSTART:20260621T173000Z
DTEND:20260621T193000Z
SUMMARY:LUZERN Kirche Maihof
END:VEVENT

BEGIN:VEVENT
DTSTART:20260705T173000Z
DTEND:20260705T193000Z
SUMMARY:LUZERN Kirche Maihof
END:VEVENT

BEGIN:VEVENT
DTSTART:20260823T173000Z
DTEND:20260823T193000Z
SUMMARY:LUZERN Kirche Maihof
END:VEVENT

BEGIN:VEVENT
DTSTART:20260906T173000Z
DTEND:20260906T193000Z
SUMMARY:LUZERN Kirche Maihof
END:VEVENT

BEGIN:VEVENT
DTSTART:20260913T173000Z
DTEND:20260913T193000Z
SUMMARY:LUZERN Kirche Maihof
END:VEVENT

BEGIN:VEVENT
DTSTART:20261011T173000Z
DTEND:20261011T193000Z
SUMMARY:LUZERN Kirche Maihof
END:VEVENT

BEGIN:VEVENT
DTSTART:20261018T173000Z
DTEND:20261018T193000Z
SUMMARY:LUZERN Kirche Maihof
END:VEVENT

BEGIN:VEVENT
DTSTART:20261101T183000Z
DTEND:20261101T203000Z
SUMMARY:LUZERN Kirche Maihof
END:VEVENT

BEGIN:VEVENT
DTSTART:20261108T183000Z
DTEND:20261108T203000Z
SUMMARY:LUZERN Kirche Maihof
END:VEVENT

BEGIN:VEVENT
DTSTART:20261115T183000Z
DTEND:20261115T203000Z
SUMMARY:LUZERN Kirche Maihof
END:VEVENT

BEGIN:VEVENT
DTSTART:20261129T183000Z
DTEND:20261129T203000Z
SUMMARY:LUZERN Kirche Maihof
END:VEVENT

BEGIN:VEVENT
DTSTART:20261213T183000Z
DTEND:20261213T203000Z
SUMMARY:LUZERN Kirche Maihof
END:VEVENT

BEGIN:VEVENT
DTSTART:20261221T183000Z
DTEND:20261221T203000Z
SUMMARY:LUZERN Kirche Maihof
END:VEVENT

BEGIN:VEVENT
DTSTART:20261231T210000Z
DTEND:20270101T010000Z
SUMMARY:LUZERN Kirche Maihof
END:VEVENT

BEGIN:VEVENT
DTSTART;VALUE=DATE:20260516
DTEND;VALUE=DATE:20260524
SUMMARY:Tanzreise Korfu
TRANSP:TRANSPARENT
END:VEVENT

BEGIN:VEVENT
DTSTART;VALUE=DATE:20260926
DTEND;VALUE=DATE:20261004
SUMMARY:Tanzreise Korfu
TRANSP:TRANSPARENT
END:VEVENT

END:VCALENDAR