BEGIN:VCALENDAR
VERSION:2.0
CALSCALE:GREGORIAN

BEGIN:VEVENT
DTSTART:20260416T173000Z
DTEND:20260416T193000Z
SUMMARY:ZÜRICH Kirche St. Jakob
END:VEVENT

BEGIN:VEVENT
DTSTART:20260709T173000Z
DTEND:20260709T193000Z
SUMMARY:ZÜRICH Kirche St. Jakob
END:VEVENT

BEGIN:VEVENT
DTSTART:20260813T173000Z
DTEND:20260813T193000Z
SUMMARY:ZÜRICH Kirche St. Jakob
END:VEVENT

BEGIN:VEVENT
DTSTART:20261008T173000Z
DTEND:20261008T193000Z
SUMMARY:ZÜRICH Kirche St. Jakob
END:VEVENT

BEGIN:VEVENT
DTSTART:20261029T183000Z
DTEND:20261029T203000Z
SUMMARY:ZÜRICH Kirche St. Jakob
END:VEVENT

BEGIN:VEVENT
DTSTART:20261112T183000Z
DTEND:20261112T203000Z
SUMMARY:ZÜRICH Kirche St. Jakob
END:VEVENT

BEGIN:VEVENT
DTSTART:20261210T183000Z
DTEND:20261210T203000Z
SUMMARY:ZÜRICH Kirche St. Jakob
END:VEVENT

BEGIN:VEVENT
DTSTART;VALUE=DATE:20260516
DTEND;VALUE=DATE:20260524
SUMMARY:Tanzreise Korfu
TRANSP:TRANSPARENT
END:VEVENT

BEGIN:VEVENT
DTSTART;VALUE=DATE:20260926
DTEND;VALUE=DATE:20261004
SUMMARY:Tanzreise Korfu
TRANSP:TRANSPARENT
END:VEVENT

END:VCALENDAR